BEGIN:VCALENDAR
VERSION:2.0
BEGIN:VEVENT
CATEGORIES:Category,Student Events,Location,HHPC Entrance,featured,Yes
DESCRIPTION:Join in the fun! Learn about Occupational Therapy and the SJC OTA Program. Don't miss out on:  Activities Prizes Giveaways Raffles&nbsp;  Date April 29, 2026 Time 9:00 a.m. - 12:30 p.m. Location HHPC Entrance
DTSTAMP:20260420T235118
DTSTART:20260429T090000
DTEND:20260429T123000
LOCATION:HHPC Entrance
SUMMARY;LANGUAGE=en-us:Occupational Therapy Month Celebration!
UID:a7f07567a53b6c100828624cc0412e50@sjccatalog.sanjuancollege.edu
END:VEVENT
END:VCALENDAR

