BEGIN:VCALENDAR
VERSION:2.0
BEGIN:VEVENT
CATEGORIES:Category,Community Events,Category,Employee Events,Category,Student Events,Location,All Day Campus-Wide Event,featured,Yes
DESCRIPTION:25 Years Stronger: Looking Back, Moving Forward Students and Employees participate by wearing jeans and/or other denim items and post to social media. Denim Day is an international protest responding to the Italian Supreme Court&rsquo;s overruling of a rape conviction in 1999. An Italian woman was raped, and when the case went to trial, the jury found the assailant guilty. The Supreme Court later overturned the ruling, saying that jeans are too difficult to remove and the assailant could not have done so without the victim&rsquo;s help. Show Off Your Look! Join us as SJC shows support for Sexual Assault Awareness Month - take a picture &amp; upload it so we can share it.&nbsp;Deadline to submit is 12 p.m. Wednesday, April 29 Date April 29, 2026 Time All Day Location Campus-Wide Event
DTSTAMP:20260420T234449
DTSTART:20260429T000000
DTEND:20260429T235900
LOCATION:All Day Campus-Wide Event
SUMMARY;LANGUAGE=en-us:Denim Day
UID:08bfa11ad36207ef388652d32c42fcb0@sjccatalog.sanjuancollege.edu
END:VEVENT
END:VCALENDAR

