BEGIN:VCALENDAR
VERSION:2.0
BEGIN:VEVENT
CATEGORIES:Category,Student Events,Location,Transfer Center,featured,Yes
DESCRIPTION:Come Explore Connect with an expert that can help you meet your goal of earning your Pharmacy Degree Discover how our Transfer Center offers:  Expert guidance Academic planning Credit transfer assistance Application tips.  Bring your questions and leave with confidence about your path to transfer! Date April 28, 2026 Time 10:00 a.m. - 4:00 p.m. Location Transfer Center&nbsp;
DTSTAMP:20260420T235444
DTSTART:20260428T100000
DTEND:20260428T160000
LOCATION:Transfer Center
SUMMARY;LANGUAGE=en-us:Meet with The University of New Mexico!
UID:617b48a43406f499378f2a1b945ba68e@sjccatalog.sanjuancollege.edu
END:VEVENT
END:VCALENDAR

