BEGIN:VCALENDAR
VERSION:2.0
BEGIN:VEVENT
CATEGORIES:Category,Community Events,Category,Employee Events,Category,Student Events,Location,Quality Center for Business,featured,Yes
DESCRIPTION:Your credit can open doors or close them. Join us for a free, workshop with US Eagle Federal Credit Union and learn how to make it work for you. You&rsquo;ll learn how to:  Understand what a credit score really is and why it matters in your everyday life Break down your credit report so you actually know what you&rsquo;re looking at Build, maintain, and repair your credit using practical tools you can start using right away  Whether you're just getting started or trying to bounce back, this workshop will give you the confidence and knowledge to take control of your financial future. Reserve your seat! Date April 28, 2026 Time 1:00 - 2:00 p.m. Location Quality Center for Business
DTSTAMP:20260420T234449
DTSTART:20260428T130000
DTEND:20260428T140000
LOCATION:Quality Center for Business
SUMMARY;LANGUAGE=en-us:Credit Workshop
UID:e49c28858ef654296f09610c033943ee@sjccatalog.sanjuancollege.edu
END:VEVENT
END:VCALENDAR

